BEGIN:VCALENDAR
VERSION:2.0
PRODID:-//Tukios.com/
BEGIN:VEVENT
UID:a1984039-5716-4c83-8b60-79db10deecd5@www.mercerfuneralhomes.com
DTSTAMP:20260421T231341Z
DTSTART:20260627T190000Z
DTEND:20260627T200000Z
SUMMARY:Inurnment
DESCRIPTION:
URL:https://www.mercerfuneralhomes.com/obituaries/danny-helton
LOCATION: 836 Kansas 16  Soldier KS 66540
GEO:39.4634741;-96.0157153
END:VEVENT
END:VCALENDAR