BEGIN:VCALENDAR
VERSION:2.0
PRODID:-//Tukios.com/
BEGIN:VEVENT
UID:e995d937-049c-4d2e-a79b-49a4de623f32@www.mercerfuneralhomes.com
DTSTAMP:20260419T233613Z
DTSTART:20260422T220000Z
DTEND:20260423T000000Z
SUMMARY:Visitation
DESCRIPTION:
URL:https://www.mercerfuneralhomes.com/obituaries/auswell-bud-stauffer-jr
LOCATION: 1101 W. 4th  Holton KS 66436
GEO:39.4626967;-95.7512606
END:VEVENT
END:VCALENDAR