BEGIN:VCALENDAR
VERSION:2.0
PRODID:-//Tukios.com/
BEGIN:VEVENT
UID:a96f9060-a24c-4566-a6d2-a0799437213d@www.mercerfuneralhomes.com
DTSTAMP:20260419T233917Z
DTSTART:20260423T153000Z
DTEND:20260423T163000Z
SUMMARY:Funeral Service
DESCRIPTION:
URL:https://www.mercerfuneralhomes.com/obituaries/auswell-bud-stauffer-jr
LOCATION: 1101 W. 4th  Holton KS 66436
GEO:39.4626967;-95.7512606
END:VEVENT
END:VCALENDAR