BEGIN:VCALENDAR
VERSION:2.0
PRODID:-//Tukios.com/
BEGIN:VEVENT
UID:a45b9a38-e001-4b16-9247-754e032d32d0@www.mercerfuneralhomes.com
DTSTAMP:20260419T233512Z
DTSTART:20260421T170000Z
DTEND:20260421T230000Z
SUMMARY:Lie In State
DESCRIPTION:
URL:https://www.mercerfuneralhomes.com/obituaries/auswell-bud-stauffer-jr
LOCATION: 1101 W. 4th  Holton KS 66436
GEO:39.4626967;-95.7512606
END:VEVENT
END:VCALENDAR