BEGIN:VCALENDAR
VERSION:2.0
PRODID:-//Tukios.com/
BEGIN:VEVENT
UID:f363330d-4f14-4555-98a0-2e3005056738@www.mercerfuneralhomes.com
DTSTAMP:20260421T084439Z
DTSTART:20260605T190000Z
DTEND:20260605T200000Z
SUMMARY:Graveside Service
DESCRIPTION:
URL:https://www.mercerfuneralhomes.com/obituaries/arcle-fraley-jr
LOCATION:Holton Cemetery 11999 highway K16  Holton KS 66436
GEO:39.4628593;-95.7201729
END:VEVENT
END:VCALENDAR